BEGIN:VCALENDAR
VERSION:2.0
PRODID:-//The Frosty Badger - Treasure Valley Events Venue - Weddings, Music, Art, Community - ECPv6.15.20//NONSGML v1.0//EN
CALSCALE:GREGORIAN
METHOD:PUBLISH
X-WR-CALNAME:The Frosty Badger - Treasure Valley Events Venue - Weddings, Music, Art, Community
X-ORIGINAL-URL:https://thefrostybadger.com
X-WR-CALDESC:Events for The Frosty Badger - Treasure Valley Events Venue - Weddings, Music, Art, Community
REFRESH-INTERVAL;VALUE=DURATION:PT1H
X-Robots-Tag:noindex
X-PUBLISHED-TTL:PT1H
BEGIN:VTIMEZONE
TZID:Africa/Abidjan
BEGIN:STANDARD
TZOFFSETFROM:+0000
TZOFFSETTO:+0000
TZNAME:GMT
DTSTART:20240101T000000
END:STANDARD
END:VTIMEZONE
BEGIN:VEVENT
DTSTART;TZID=Africa/Abidjan:20251108T173000
DTEND;TZID=Africa/Abidjan:20251108T220000
DTSTAMP:20260423T211420
CREATED:20251030T182822Z
LAST-MODIFIED:20251030T182822Z
UID:2984-1762623000-1762639200@thefrostybadger.com
SUMMARY:The Country Club w/ special guest Dustin Morris
DESCRIPTION:Modern-day Western Swing and Honky Tonk music from Boise\, Idaho.\n\n\nThe Country Club is a band from Boise\, Idaho playing original and traditional music from the front lines of the nostalgia wars.  While their sound is clearly drawn from the well of classic country\, honky tonk\, old time\, and bluegrass\, it rings and twangs with modernity and occasional urbanity. From dark and dirty to clean and pristine\, the sound of the Country Club is as at home on the range\, in a barn\, as it is downtown\, in the club or a bar.
URL:https://thefrostybadger.com/event/the-country-club-w-special-guest-dustin-morris/
LOCATION:The Frosty Badger\, 505 Northwest 1st Street\, Ontario\, OR 97914\, Ontario\, OR\, 97914\, US
ATTACH;FMTTYPE=image/jpeg:https://thefrostybadger.com/wp-content/uploads/2025/10/2984_image.jpg
END:VEVENT
END:VCALENDAR